BEGIN:VCALENDAR
VERSION:2.0
PRODID:-//ChamberMaster//Event Calendar 2.0//EN
METHOD:PUBLISH
X-PUBLISHED-TTL:P3D
REFRESH-INTERVAL:P3D
CALSCALE:GREGORIAN
BEGIN:VEVENT
DTSTART:20260426T180000Z
DTEND:20260426T210000Z
X-MICROSOFT-CDO-ALLDAYEVENT:FALSE
SUMMARY:Earth Day Party
DESCRIPTION:Join our crew this spring to get your hands a little dirty on the farm!  At this work party\, get excited to sip on farm-fresh beverages while helping us plant perennials in our lower fields.\n\nPlus - we will have a seedling pop-up sale!  Plant the garden of your dreams this season with LEAF seedlings (organic\, raised by our crew). \n\n\n\nNote: This will also be a time to pick up any seedling pre-orders you've made (place your orders here!).
X-ALT-DESC;FMTTYPE=text/html:<div>\n<div>\n<div style="margin-left:-17px\; margin-right:-17px">\n<div>\n<div>\n<div>\n<div>\n<p>Join our crew this spring to get your hands a little dirty on the farm!&nbsp\; At this work party\, get excited to sip on farm-fresh beverages while helping us plant perennials in our lower fields.</p>\n\n<p>Plus - we will have a seedling pop-up sale!&nbsp\; Plant the garden of your dreams this season with LEAF seedlings (organic\, raised by our crew).&nbsp\;<br />\n<br />\nNote: This will also be a time to pick up any seedling pre-orders you&rsquo\;ve made (<a href="https://www.leafprojectpa.org/leaf-store?category=Seedling%20Pre-Sales" style="background: transparent\; text-decoration-line: none\; color: rgb(61\, 153\, 145)\; overflow-wrap: break-word\;">place your orders here</a>!).</p>\n\n<div>&nbsp\;</div>\n</div>\n</div>\n</div>\n</div>\n</div>\n</div>\n\n<div>&nbsp\;</div>\n</div>\n
LOCATION:554 Warm Springs Road Landisburg\, PA 17040
UID:e.1380.5247432
SEQUENCE:3
DTSTAMP:20260420T082015Z
URL:https://business.carlislechamber.org/events/details/earth-day-party-5247432
END:VEVENT

END:VCALENDAR
