BEGIN:VCALENDAR
VERSION:2.0
PRODID:-//ChamberMaster//Event Calendar 2.0//EN
METHOD:PUBLISH
X-PUBLISHED-TTL:P3D
REFRESH-INTERVAL:P3D
CALSCALE:GREGORIAN
BEGIN:VEVENT
DTSTART:20260425T133000Z
DTEND:20260425T143000Z
X-MICROSOFT-CDO-ALLDAYEVENT:FALSE
SUMMARY:Frequency Reset - Sound Healing Experience
DESCRIPTION:The Frequency Reset  is a guided nervous system experience designed to bring your body out of stress and back into alignment. Through hands-on crystal bowl playing\, mantra\, meditation\, and deep relaxation techniques\, your mind begins to quiet while your body releases stored tension. As sound frequencies move through the body\, they support mental clarity\, emotional balance\, and a deeper connection to self creating a space where true reset can happen.
X-ALT-DESC;FMTTYPE=text/html:The Frequency Reset&trade\; is a guided nervous system experience designed to bring your body out of stress and back into alignment. Through hands-on crystal bowl playing\, mantra\, meditation\, and deep relaxation techniques\, your mind begins to quiet while your body releases stored tension. As sound frequencies move through the body\, they support mental clarity\, emotional balance\, and a deeper connection to self&mdash\;creating a space where true reset can happen.
LOCATION:Happie Soul Wellness 5000 Lenker St lower level Mechanicsburg
UID:e.1380.5247437
SEQUENCE:3
DTSTAMP:20260424T075919Z
URL:https://business.carlislechamber.org/events/details/frequency-reset-sound-healing-experience-5247437
END:VEVENT

END:VCALENDAR
