BEGIN:VCALENDAR
VERSION:2.0
PRODID:-//ChamberMaster//Event Calendar 2.0//EN
METHOD:PUBLISH
X-PUBLISHED-TTL:P3D
REFRESH-INTERVAL:P3D
CALSCALE:GREGORIAN
BEGIN:VEVENT
DTSTART:20220930T153000Z
DTEND:20220930T170000Z
X-MICROSOFT-CDO-ALLDAYEVENT:FALSE
SUMMARY:Lunch Mixer - Cantate Carlisle
DESCRIPTION:Join Cantate Carlisle at Carlisle United Methodist Church for a lunch mixer! Stop out to meet the singers and enjoy lunch. Bring your business cards to be entered into a raffle!
X-ALT-DESC;FMTTYPE=text/html:<p>&nbsp\;</p>\n\n<p><span style="font-size:18px\;">Join Cantate Carlisle at&nbsp\;Carlisle United Methodist Church for a lunch mixer!&nbsp\;Stop out to meet the singers&nbsp\;and enjoy lunch. Bring your business cards to be entered into a raffle!&nbsp\;&nbsp\;</span>&nbsp\;</p>\n
LOCATION:Carlisle United Methodist Church 333 S Spring Garden St Carlisle\, PA 17013
UID:e.1380.5242527
SEQUENCE:3
DTSTAMP:20260422T220736Z
URL:https://business.carlislechamber.org/events/details/lunch-mixer-cantate-carlisle-5242527
END:VEVENT

END:VCALENDAR
