BEGIN:VCALENDAR
VERSION:2.0
PRODID:-//ChamberMaster//Event Calendar 2.0//EN
METHOD:PUBLISH
X-PUBLISHED-TTL:P3D
REFRESH-INTERVAL:P3D
CALSCALE:GREGORIAN
BEGIN:VEVENT
DTSTART:20260425T143000Z
DTEND:20260425T160000Z
X-MICROSOFT-CDO-ALLDAYEVENT:FALSE
SUMMARY:Rooted & Radiant: Color Analysis Demo with Karen Nordby
DESCRIPTION:Celebrate where you come from while reconnecting with who you are becoming together. Enjoy a personalized color analysis with Karen Nordbay of Color Style\, followed by a relaxing\, heart-centered experience at Happie Soul Wellness designed to help you both feel confident\, connected\, and radiant inside and out.
X-ALT-DESC;FMTTYPE=text/html:Celebrate where you come from while reconnecting with who you are becoming&mdash\;together. Enjoy a personalized color analysis with Karen Nordbay of Color Style\, followed by a relaxing\, heart-centered experience at Happie Soul Wellness designed to help you both feel confident\, connected\, and radiant&mdash\;inside and out.
LOCATION:Happie Soul Wellness 5000 Lenker St lower level Mechanicsburg
UID:e.1380.5247438
SEQUENCE:3
DTSTAMP:20260424T080856Z
URL:https://business.carlislechamber.org/events/details/rooted-radiant-color-analysis-demo-with-karen-nordby-5247438
END:VEVENT

END:VCALENDAR
