BEGIN:VCALENDAR
VERSION:2.0
PRODID:-//ChamberMaster//Event Calendar 2.0//EN
METHOD:PUBLISH
X-PUBLISHED-TTL:P3D
REFRESH-INTERVAL:P3D
CALSCALE:GREGORIAN
BEGIN:VEVENT
DTSTART:20260519T123000Z
DTEND:20260519T190000Z
X-MICROSOFT-CDO-ALLDAYEVENT:FALSE
SUMMARY:Roots & Resources-A Housing Forum
DESCRIPTION:Limited tickets remain for the Roots and Resources-A Housing Forum event on May 19\, 2026\, from 8:30am-3pm. \n\nThere is still some time to join us for a practical discussion of ground-level work throughout Cumberland County and how we can grow together.\n\nFeaturing panels on the employment\, economic mobility\, community response\, legal navigation\, public policy\, and personal success aspects of housing assistance.\n\n\n\nSubmit questions for our panels here.\n\nClick here to learn more about the event and to purchase tickets today!
X-ALT-DESC;FMTTYPE=text/html:<div>\n<p><span style="color:rgb(0\, 0\, 0)\; font-family:roboto\,sans-serif\; font-size:16px">Limited tickets remain for the Roots and Resources-A Housing Forum event on May 19\, 2026\, from 8:30am-3pm. </span></p>\n\n<p><span style="color:rgb(0\, 0\, 0)\; font-family:roboto\,sans-serif\; font-size:16px">There is still some time to join us for a practical discussion of ground-level work throughout Cumberland County and how we can grow together.</span></p>\n\n<p><span style="color:rgb(0\, 0\, 0)\; font-family:roboto\,sans-serif\; font-size:16px">Featuring panels on the employment\, economic mobility\, community response\, legal navigation\, public policy\, and personal success aspects of housing assistance.<br />\n<br />\nSubmit questions for our panels </span><a href="https://docs.google.com/forms/d/e/1FAIpQLSdp1-Y_6Ci-UM_GfcfrUMVvcPFAf7wlfn7D_K_rMyjW7bW_-g/viewform?usp=sharing&amp\;ouid=114488044024133757198" rel="noopener noreferrer" style="color: rgb(170\, 187\, 34)\; font-size: 16px\; font-family: Roboto\, sans-serif\;" target="_blank">here.</a></p>\n\n<p><a href="https://www.eventbrite.com/e/roots-resources-a-housing-forum-tickets-1978158979759?utm-campaign=social&amp\;utm-content=attendeeshare&amp\;utm-medium=discovery&amp\;utm-term=listing&amp\;utm-source=cp&amp\;aff=ebdsshcopyurl" rel="noopener noreferrer" style="color: rgb(170\, 187\, 34)\; font-size: 16px\; font-family: Roboto\, sans-serif\;" target="_blank">Click here</a><span style="color:rgb(0\, 0\, 0)\; font-family:roboto\,sans-serif\; font-size:16px"> to learn more about the event and to purchase tickets today!</span></p>\n</div>\n
LOCATION:Carlisle United Methodist Church 333 S. Spring Garden Street Carlisle\, PA 17013
UID:e.1380.5247431
SEQUENCE:3
DTSTAMP:20260420T093928Z
URL:https://business.carlislechamber.org/events/details/roots-resources-a-housing-forum-5247431
END:VEVENT

END:VCALENDAR
